BEGIN:VCALENDAR
VERSION:2.0
PRODID:-//Energize Littleton - ECPv6.15.18//NONSGML v1.0//EN
CALSCALE:GREGORIAN
METHOD:PUBLISH
X-ORIGINAL-URL:https://energizelittleton.org
X-WR-CALDESC:Events for Energize Littleton
REFRESH-INTERVAL;VALUE=DURATION:PT1H
X-Robots-Tag:noindex
X-PUBLISHED-TTL:PT1H
BEGIN:VTIMEZONE
TZID:America/New_York
BEGIN:DAYLIGHT
TZOFFSETFROM:-0500
TZOFFSETTO:-0400
TZNAME:EDT
DTSTART:20230312T070000
END:DAYLIGHT
BEGIN:STANDARD
TZOFFSETFROM:-0400
TZOFFSETTO:-0500
TZNAME:EST
DTSTART:20231105T060000
END:STANDARD
BEGIN:DAYLIGHT
TZOFFSETFROM:-0500
TZOFFSETTO:-0400
TZNAME:EDT
DTSTART:20240310T070000
END:DAYLIGHT
BEGIN:STANDARD
TZOFFSETFROM:-0400
TZOFFSETTO:-0500
TZNAME:EST
DTSTART:20241103T060000
END:STANDARD
BEGIN:DAYLIGHT
TZOFFSETFROM:-0500
TZOFFSETTO:-0400
TZNAME:EDT
DTSTART:20250309T070000
END:DAYLIGHT
BEGIN:STANDARD
TZOFFSETFROM:-0400
TZOFFSETTO:-0500
TZNAME:EST
DTSTART:20251102T060000
END:STANDARD
END:VTIMEZONE
BEGIN:VEVENT
DTSTART;TZID=America/New_York:20240530T220000
DTEND;TZID=America/New_York:20240618T230000
DTSTAMP:20260424T050843
CREATED:20251218T204136Z
LAST-MODIFIED:20260201T224645Z
UID:10000016-1717106400-1718751600@energizelittleton.org
SUMMARY:Littleton's Hazard Mitigation Plan
DESCRIPTION:The Town of Littleton has prepared an updated Hazard Mitigation Plan to help the Town reduce its vulnerability to natural hazards such as flooding\, hurricanes\, and winter storms. The plan also addresses the impacts of climate change and features recommended mitigation actions the Town can take to become more resilient to natural hazards.   \nThe Town wants to hear from you! Download and read the Hazard Mitigation Plan. If you have any questions or would like to send a comment\, please send an email to LittletonResilience@mapc.org by June 18\, 2024. \nThe Town of Littleton Hazard Mitigation Team was assisted by the Metropolitan Area Planning Council (MAPC) in preparing this draft plan. The project was funded by the Massachusetts Emergency Management Agency (MEMA) through a Federal Emergency Management Agency (FEMA) grant.  
URL:https://energizelittleton.org/event/littletons-hazard-mitigation-plan/
ATTACH;FMTTYPE=image/jpeg:https://massenergize-wp-media.s3.us-east-2.amazonaws.com/sites/45/bd4de72b-c067-485e-8c69-8900f2b03a5d.jpg
END:VEVENT
BEGIN:VEVENT
DTSTART;TZID=America/New_York:20240530T230000
DTEND;TZID=America/New_York:20240630T000000
DTSTAMP:20260424T050843
CREATED:20251218T204132Z
LAST-MODIFIED:20251218T204132Z
UID:10000015-1717110000-1719705600@energizelittleton.org
SUMMARY:Discounted Compost Bins available
DESCRIPTION:*** UPDATE! *** We are told that ALL the compost bins have been sold. Great job\, Littleton! Don’t forget to mark off the Composting Action! \nThe DPW has obtained 20 compost bins for purchase at a discounted rate. Bins are available for $55 and are at the DPW facility on Ayer Road for pick up. The bins are Orbis NPL-300 and can be seen on their website at: \n https://www.orbiscorporation.com/en-us/products/environmental-recycling-and-waste/compost-bins/npl-300-earth-machine/ \n  \n Please call Highway at 978-540-2670 to reserve yours today. $55 payable by check at the Highway office. Limit one per household.
URL:https://energizelittleton.org/event/discounted-compost-bins-available/
LOCATION:DPW Office\, Ayer Road\, Littleton\, Massachusetts\, US
ATTACH;FMTTYPE=image/jpeg:https://massenergize-wp-media.s3.us-east-2.amazonaws.com/sites/45/797696d1-725b-4cb3-88a6-8f6399709463.jpg
END:VEVENT
BEGIN:VEVENT
DTSTART;TZID=America/New_York:20240608T090000
DTEND;TZID=America/New_York:20240609T170000
DTSTAMP:20260424T050843
CREATED:20251218T204129Z
LAST-MODIFIED:20251218T204129Z
UID:10000014-1717837200-1717952400@energizelittleton.org
SUMMARY:Clothing Drive
DESCRIPTION:Society of St. Vincent de Paul\, St. Anne Conference members will be collecting gently worn and still usable clothing and shoes in the St. Anne Parish parking lot at 75 King Street\, Littleton.\n \nSaturday\, June 8th – 9:00 a.m. to 5:00 p.m. and\nSunday\, June 9th – 9:00 a.m. to 5:00 p.m.\n \n\n\nThis is a collection of clean\, wearable men’s\, women’s\, and children’s clothing and shoes only ~ no appliances or household items\, please.
URL:https://energizelittleton.org/event/clothing-drive/
LOCATION:75 King Street\, Littleton\, 75 King Street\, Littleton\, Massachusetts\, US
END:VEVENT
END:VCALENDAR