BEGIN:VCALENDAR
VERSION:2.0
PRODID:-//Energize Littleton - ECPv6.15.18//NONSGML v1.0//EN
CALSCALE:GREGORIAN
METHOD:PUBLISH
X-WR-CALNAME:Energize Littleton
X-ORIGINAL-URL:https://energizelittleton.org
X-WR-CALDESC:Events for Energize Littleton
REFRESH-INTERVAL;VALUE=DURATION:PT1H
X-Robots-Tag:noindex
X-PUBLISHED-TTL:PT1H
BEGIN:VTIMEZONE
TZID:America/New_York
BEGIN:DAYLIGHT
TZOFFSETFROM:-0500
TZOFFSETTO:-0400
TZNAME:EDT
DTSTART:20230312T070000
END:DAYLIGHT
BEGIN:STANDARD
TZOFFSETFROM:-0400
TZOFFSETTO:-0500
TZNAME:EST
DTSTART:20231105T060000
END:STANDARD
BEGIN:DAYLIGHT
TZOFFSETFROM:-0500
TZOFFSETTO:-0400
TZNAME:EDT
DTSTART:20240310T070000
END:DAYLIGHT
BEGIN:STANDARD
TZOFFSETFROM:-0400
TZOFFSETTO:-0500
TZNAME:EST
DTSTART:20241103T060000
END:STANDARD
BEGIN:DAYLIGHT
TZOFFSETFROM:-0500
TZOFFSETTO:-0400
TZNAME:EDT
DTSTART:20250309T070000
END:DAYLIGHT
BEGIN:STANDARD
TZOFFSETFROM:-0400
TZOFFSETTO:-0500
TZNAME:EST
DTSTART:20251102T060000
END:STANDARD
END:VTIMEZONE
BEGIN:VEVENT
DTSTART;TZID=America/New_York:20241022T190000
DTEND;TZID=America/New_York:20241022T200000
DTSTAMP:20260423T235750
CREATED:20251218T204123Z
LAST-MODIFIED:20251218T204123Z
UID:10000011-1729623600-1729627200@energizelittleton.org
SUMMARY:Climate/Sustainability Action Plan Forum
DESCRIPTION:Join Us for a Community Forum on Sustainability & Climate Action Plans  \nThe Sustainability Committee invites you to a Climate Action Plan public forum on Tuesday\, October 22. Tom Birmingham\, a former energy executive and sustainability leader\, will present a framework for creating a plan for climate mitigation and adaptation in key areas such as energy conservation and public health. Jim Snyder-Grant\, a Select Board Member from Acton who played a key role in Acton’s 2022 Climate Action Plan\, will also join us to share his experience and perspective.  \nThis informative session will cover the key elements of creating a comprehensive plan that addresses climate change through mitigation and resilience strategies. Learn how you can contribute to the efforts to enhance local sustainability\, protect natural resources\, and engage with community initiatives. Don’t miss this opportunity to help shape our town’s future by building a stronger\, more adaptable community that can thrive in a changing world. \nClimate Action Plan Forum Tuesday\, October 22 at 7pm\, in the Sturtz room at the Reuben Hoar Library \nParticipation will be in-person\, but the event will be recorded and available on LCTV
URL:https://energizelittleton.org/event/climate-sustainability-action-plan-forum/
LOCATION:Reuben Hoar Library\, 35 Shattuck Street\, Littleton\, Massachusetts\, US
END:VEVENT
END:VCALENDAR