BEGIN:VCALENDAR
VERSION:2.0
PRODID:-//Energize Littleton - ECPv6.15.18//NONSGML v1.0//EN
CALSCALE:GREGORIAN
METHOD:PUBLISH
X-WR-CALNAME:Energize Littleton
X-ORIGINAL-URL:https://energizelittleton.org
X-WR-CALDESC:Events for Energize Littleton
REFRESH-INTERVAL;VALUE=DURATION:PT1H
X-Robots-Tag:noindex
X-PUBLISHED-TTL:PT1H
BEGIN:VTIMEZONE
TZID:America/New_York
BEGIN:DAYLIGHT
TZOFFSETFROM:-0500
TZOFFSETTO:-0400
TZNAME:EDT
DTSTART:20220313T070000
END:DAYLIGHT
BEGIN:STANDARD
TZOFFSETFROM:-0400
TZOFFSETTO:-0500
TZNAME:EST
DTSTART:20221106T060000
END:STANDARD
BEGIN:DAYLIGHT
TZOFFSETFROM:-0500
TZOFFSETTO:-0400
TZNAME:EDT
DTSTART:20230312T070000
END:DAYLIGHT
BEGIN:STANDARD
TZOFFSETFROM:-0400
TZOFFSETTO:-0500
TZNAME:EST
DTSTART:20231105T060000
END:STANDARD
BEGIN:DAYLIGHT
TZOFFSETFROM:-0500
TZOFFSETTO:-0400
TZNAME:EDT
DTSTART:20240310T070000
END:DAYLIGHT
BEGIN:STANDARD
TZOFFSETFROM:-0400
TZOFFSETTO:-0500
TZNAME:EST
DTSTART:20241103T060000
END:STANDARD
END:VTIMEZONE
BEGIN:VEVENT
DTSTART;TZID=America/New_York:20231202T090000
DTEND;TZID=America/New_York:20231202T150000
DTSTAMP:20260423T175557
CREATED:20251218T204151Z
LAST-MODIFIED:20251218T204151Z
UID:10000020-1701507600-1701529200@energizelittleton.org
SUMMARY:Littleton Holiday Bazaar
DESCRIPTION:Please stop by the Energize Littleton table at the 2023 Holiday Bazaar for more information about signing up for Energize Littleton.
URL:https://energizelittleton.org/event/littleton-holiday-bazaar/
LOCATION:Littleton Middle School\, 55 Russell Street\, Littleton\, Massachusetts\, US
ATTACH;FMTTYPE=image/png:https://massenergize-wp-media.s3.us-east-2.amazonaws.com/sites/45/Action_Thumbnails-230405-172305.png
END:VEVENT
BEGIN:VEVENT
DTSTART;TZID=America/New_York:20231008T130000
DTEND;TZID=America/New_York:20231104T140000
DTSTAMP:20260423T175557
CREATED:20251218T204156Z
LAST-MODIFIED:20251218T204156Z
UID:10000021-1696770000-1699106400@energizelittleton.org
SUMMARY:Trick or Trash!
DESCRIPTION:Please join our community in recycling – candy wrappers!  \nPlease put your candy wrappers in another bag (we’ll recycle that too)\, and then drop it off in the TerraCycle bin at the Donelan’s Supermarket (in Littleton as you exit the door\, or in Acton near the bottle center)\, or at the lower floor of the Reuben Hoar Library.  The Sustainability Committee is also working on getting special boxes around Littleton specifically for recycling candy wrappers – at Alumni Field parking lot during Trunk or Treat\, Reuben Hoar Library lobby\, and the Town Hall.  Thank you for helping reduce trash in our community!
URL:https://energizelittleton.org/event/trick-or-trash/
ATTACH;FMTTYPE=image/png:https://massenergize-wp-media.s3.us-east-2.amazonaws.com/sites/45/trickortrash-231008-175224.png
END:VEVENT
BEGIN:VEVENT
DTSTART;TZID=America/New_York:20230909T130000
DTEND;TZID=America/New_York:20230909T143000
DTSTAMP:20260423T175557
CREATED:20251218T204201Z
LAST-MODIFIED:20251218T204201Z
UID:10000022-1694264400-1694269800@energizelittleton.org
SUMMARY:Terracycle Explained
DESCRIPTION:Learn about TerraCycle programs and what opportunities are available in Littleton.
URL:https://energizelittleton.org/event/terracycle-explained/
LOCATION:Reuben Hoar Library\, 35 Shattuck Street\, Littleton\, Reuben Hoar Library\, 35 Shattuck Street\, Littleton\, Massachusetts\, US
END:VEVENT
END:VCALENDAR