BEGIN:VCALENDAR
VERSION:2.0
PRODID:-//Energize Littleton - ECPv6.15.18//NONSGML v1.0//EN
CALSCALE:GREGORIAN
METHOD:PUBLISH
X-WR-CALNAME:Energize Littleton
X-ORIGINAL-URL:https://energizelittleton.org
X-WR-CALDESC:Events for Energize Littleton
REFRESH-INTERVAL;VALUE=DURATION:PT1H
X-Robots-Tag:noindex
X-PUBLISHED-TTL:PT1H
BEGIN:VTIMEZONE
TZID:America/New_York
BEGIN:DAYLIGHT
TZOFFSETFROM:-0500
TZOFFSETTO:-0400
TZNAME:EDT
DTSTART:20240310T070000
END:DAYLIGHT
BEGIN:STANDARD
TZOFFSETFROM:-0400
TZOFFSETTO:-0500
TZNAME:EST
DTSTART:20241103T060000
END:STANDARD
BEGIN:DAYLIGHT
TZOFFSETFROM:-0500
TZOFFSETTO:-0400
TZNAME:EDT
DTSTART:20250309T070000
END:DAYLIGHT
BEGIN:STANDARD
TZOFFSETFROM:-0400
TZOFFSETTO:-0500
TZNAME:EST
DTSTART:20251102T060000
END:STANDARD
BEGIN:DAYLIGHT
TZOFFSETFROM:-0500
TZOFFSETTO:-0400
TZNAME:EDT
DTSTART:20260308T070000
END:DAYLIGHT
BEGIN:STANDARD
TZOFFSETFROM:-0400
TZOFFSETTO:-0500
TZNAME:EST
DTSTART:20261101T060000
END:STANDARD
END:VTIMEZONE
BEGIN:VEVENT
DTSTART;TZID=America/New_York:20251105T190000
DTEND;TZID=America/New_York:20251105T203000
DTSTAMP:20260423T044417
CREATED:20251218T204116Z
LAST-MODIFIED:20251218T204116Z
UID:10000008-1762369200-1762374600@energizelittleton.org
SUMMARY:Restore & Preserve Littleton's Dark Sky\, Littleton Conservation Trust's Ed Bell Forum
DESCRIPTION:Learn about the problems caused by light pollution\, and how to solve them. Our speaker is Tim Brothers\, Manager of MIT’s Wallace Astrophysical Observatory in Westford. He focuses on outdoor lighting policies to save energy and restore nighttime environments. Reducing light pollution at your own home improves safety for people\, migrating birds\, fireflies\, amphibians\, and our community.  \nPresented by Littleton Conservation Trust
URL:https://energizelittleton.org/event/restore-preserve-littletons-dark-sky-littleton-conservation-trusts-ed-bell-forum/
LOCATION:The Center on Shattuck Street\, 35 Shattuck Street\, Room First floor meeting room\, Littleton\, Massachusetts\, US
END:VEVENT
END:VCALENDAR